BEGIN:VCALENDAR
VERSION:2.0
PRODID:spatie/icalendar-generator
DESCRIPTION:Events from Hootline
X-WR-CALDESC:Events from Hootline
REFRESH-INTERVAL;VALUE=DURATION:PT1440M
X-PUBLISHED-TTL:PT1440M
BEGIN:VTIMEZONE
TZID:Etc/GMT+6
BEGIN:STANDARD
DTSTART:20251007T000000Z
TZOFFSETFROM:-0600
TZOFFSETTO:-0600
END:STANDARD
END:VTIMEZONE
BEGIN:VTIMEZONE
TZID:UTC
BEGIN:STANDARD
DTSTART:20250725T203837Z
TZOFFSETFROM:+0000
TZOFFSETTO:+0000
END:STANDARD
END:VTIMEZONE
BEGIN:VEVENT
UID:216-53
DTSTAMP:20260421T203837Z
SUMMARY:Independence Day
LOCATION:
ORGANIZER;CN=Ben:MAILTO:b00ngarten@gmail.com
RRULE:FREQ=YEARLY;BYMONTH=07;BYDAY=04;COUNT=0
DTSTART;TZID=Etc/GMT+6;VALUE=DATE:20260704
DTEND;TZID=Etc/GMT+6;VALUE=DATE:20260705
X-ALT-DESC;FMTTYPE=TEXT/HTML:
CATEGORIES:US Holidays
URL;VALUE=URI:https://hootline.com/mc-events/independence-day/?mc_id=216
METHOD:PUBLISH
END:VEVENT
END:VCALENDAR