BEGIN:VCALENDAR
VERSION:2.0
PRODID:spatie/icalendar-generator
DESCRIPTION:Events from Hootline
X-WR-CALDESC:Events from Hootline
REFRESH-INTERVAL;VALUE=DURATION:PT1440M
X-PUBLISHED-TTL:PT1440M
BEGIN:VTIMEZONE
TZID:Etc/GMT+6
BEGIN:STANDARD
DTSTART:20190414T170000Z
TZOFFSETFROM:-0600
TZOFFSETTO:-0600
END:STANDARD
END:VTIMEZONE
BEGIN:VTIMEZONE
TZID:UTC
BEGIN:STANDARD
DTSTART:20250725T201731Z
TZOFFSETFROM:+0000
TZOFFSETTO:+0000
END:STANDARD
END:VTIMEZONE
BEGIN:VEVENT
UID:353-88
DTSTAMP:20260421T201731Z
SUMMARY:Green Mill Woodbury
LOCATION:Green Mill - Woodbury 6025 Hudson Road  Woodbury MN 55125
ORGANIZER;CN=Ben:MAILTO:b00ngarten@gmail.com
DTSTART;TZID=Etc/GMT+6:20200109T170000
DTEND;TZID=Etc/GMT+6:20200109T220000
X-ALT-DESC;FMTTYPE=TEXT/HTML:See below to add this event to your calendar.
CATEGORIES:Meet the Club / Happy Hours
URL;VALUE=URI:https://hootline.com/mc-events/green-mill-woodbury-3/
METHOD:PUBLISH
END:VEVENT
END:VCALENDAR