BEGIN:VCALENDAR
VERSION:2.0
PRODID:spatie/icalendar-generator
DESCRIPTION:Events from Hootline
X-WR-CALDESC:Events from Hootline
REFRESH-INTERVAL;VALUE=DURATION:PT1440M
X-PUBLISHED-TTL:PT1440M
BEGIN:VTIMEZONE
TZID:Etc/GMT+6
BEGIN:STANDARD
DTSTART:20221122T173000Z
TZOFFSETFROM:-0600
TZOFFSETTO:-0600
END:STANDARD
END:VTIMEZONE
BEGIN:VTIMEZONE
TZID:UTC
BEGIN:STANDARD
DTSTART:20250725T195210Z
TZOFFSETFROM:+0000
TZOFFSETTO:+0000
END:STANDARD
END:VTIMEZONE
BEGIN:VEVENT
UID:563-256
DTSTAMP:20260421T195210Z
SUMMARY:Annual Wine Tasting &amp;amp\; Taste Pairing Event 2023
LOCATION:Ross &amp;amp\; Angela McLean 9423 Haralson Road  Woodbury MN 55125
ORGANIZER;CN=Felix:MAILTO:feliuscat@hotmail.com
DTSTART;TZID=Etc/GMT+6:20230819T173000
DTEND;TZID=Etc/GMT+6:20230819T213000
X-ALT-DESC;FMTTYPE=TEXT/HTML:<p>[qsm quiz=153]</p>\n
CATEGORIES:Club Events
URL;VALUE=URI:https://hootline.com/mc-events/annual-wine-tasting-taste-pair
 ing-event-2023/
METHOD:PUBLISH
END:VEVENT
END:VCALENDAR