BEGIN:VCALENDAR
VERSION:2.0
PRODID:spatie/icalendar-generator
DESCRIPTION:Events from Hootline
X-WR-CALDESC:Events from Hootline
REFRESH-INTERVAL;VALUE=DURATION:PT1440M
X-PUBLISHED-TTL:PT1440M
BEGIN:VTIMEZONE
TZID:Etc/GMT+6
BEGIN:STANDARD
DTSTART:20250316T170000Z
TZOFFSETFROM:-0600
TZOFFSETTO:-0600
END:STANDARD
END:VTIMEZONE
BEGIN:VTIMEZONE
TZID:UTC
BEGIN:STANDARD
DTSTART:20250725T182625Z
TZOFFSETFROM:+0000
TZOFFSETTO:+0000
END:STANDARD
END:VTIMEZONE
BEGIN:VEVENT
UID:757-366
DTSTAMP:20260421T182625Z
SUMMARY:Thristy Thursday Seven Vines Dec 11
LOCATION:7 Vines Winery - Dellwood 101 MN-96  Dellwood MN 55110
ORGANIZER;CN=Felix:MAILTO:feliuscat@hotmail.com
DTSTART;TZID=Etc/GMT+6:20251211T170000
DTEND;TZID=Etc/GMT+6:20251211T203000
X-ALT-DESC;FMTTYPE=TEXT/HTML:<p>[qsm quiz=245]</p>\n
CATEGORIES:Meet the Club / Happy Hours
URL;VALUE=URI:https://hootline.com/mc-events/thristy-thursday-seven-vines-d
 ec-11/
METHOD:PUBLISH
END:VEVENT
END:VCALENDAR