BEGIN:VCALENDAR
VERSION:2.0
PRODID:spatie/icalendar-generator
DESCRIPTION:Events from Hootline
X-WR-CALDESC:Events from Hootline
REFRESH-INTERVAL;VALUE=DURATION:PT1440M
X-PUBLISHED-TTL:PT1440M
BEGIN:VTIMEZONE
TZID:Etc/GMT+6
BEGIN:STANDARD
DTSTART:20250413T170000Z
TZOFFSETFROM:-0600
TZOFFSETTO:-0600
END:STANDARD
END:VTIMEZONE
BEGIN:VTIMEZONE
TZID:UTC
BEGIN:STANDARD
DTSTART:20250725T213938Z
TZOFFSETFROM:+0000
TZOFFSETTO:+0000
END:STANDARD
END:VTIMEZONE
BEGIN:VEVENT
UID:760-370
DTSTAMP:20260421T213938Z
SUMMARY:Thirsty Thursday Red Cow St.Paul
LOCATION:Red Cow St. Paul-Cathedral Hill 393 Selby AVe  St. Paul MN 55102
ORGANIZER;CN=Felix:MAILTO:feliuscat@hotmail.com
DTSTART;TZID=Etc/GMT+6:20260108T170000
DTEND;TZID=Etc/GMT+6:20260108T200000
X-ALT-DESC;FMTTYPE=TEXT/HTML:<p>[qsm quiz=246]</p>\n
CATEGORIES:Meet the Club / Happy Hours
URL;VALUE=URI:https://hootline.com/mc-events/thirsty-thursday-red-cow-st-pa
 ul/
METHOD:PUBLISH
END:VEVENT
END:VCALENDAR